BEGIN:VCALENDAR
VERSION:2.0
PRODID:-//Site de la commune de Treffléan - ECPv5.7.0//NONSGML v1.0//EN
CALSCALE:GREGORIAN
METHOD:PUBLISH
X-WR-CALNAME:Site de la commune de Treffléan
X-ORIGINAL-URL:https://www.trefflean.com
X-WR-CALDESC:évènements pour Site de la commune de Treffléan
BEGIN:VTIMEZONE
TZID:Europe/Paris
BEGIN:DAYLIGHT
TZOFFSETFROM:+0100
TZOFFSETTO:+0200
TZNAME:CEST
DTSTART:20260329T010000
END:DAYLIGHT
BEGIN:STANDARD
TZOFFSETFROM:+0200
TZOFFSETTO:+0100
TZNAME:CET
DTSTART:20261025T010000
END:STANDARD
END:VTIMEZONE
BEGIN:VEVENT
DTSTART;TZID=Europe/Paris:20260320T080000
DTEND;TZID=Europe/Paris:20260320T170000
DTSTAMP:20260421T140749
CREATED:20260320T101929Z
LAST-MODIFIED:20260320T101929Z
UID:24335-1773993600-1774026000@www.trefflean.com
SUMMARY:Portes ouvertes - École Les Korrigans
DESCRIPTION:L’école LES KORRIGANS organise sa journée portes ouvertes  \nle jeudi 3avril à 16h30. \nUn moment de convivialité sera proposé dès 16h15\, offert par l’Amicale. \n \n 
URL:https://www.trefflean.com/evenement/portes-ouvertes-ecole-les-korrigans-3/
CATEGORIES:scolaire
ATTACH;FMTTYPE=image/jpeg:https://www.trefflean.com/wp-content/uploads/2026/03/PO-Les-Korrigans.jpg
END:VEVENT
END:VCALENDAR