BEGIN:VCALENDAR
VERSION:2.0
PRODID:-//Site de la commune de Treffléan - ECPv5.7.0//NONSGML v1.0//EN
CALSCALE:GREGORIAN
METHOD:PUBLISH
X-WR-CALNAME:Site de la commune de Treffléan
X-ORIGINAL-URL:https://www.trefflean.com
X-WR-CALDESC:évènements pour Site de la commune de Treffléan
BEGIN:VTIMEZONE
TZID:Europe/Paris
BEGIN:DAYLIGHT
TZOFFSETFROM:+0100
TZOFFSETTO:+0200
TZNAME:CEST
DTSTART:20230326T010000
END:DAYLIGHT
BEGIN:STANDARD
TZOFFSETFROM:+0200
TZOFFSETTO:+0100
TZNAME:CET
DTSTART:20231029T010000
END:STANDARD
END:VTIMEZONE
BEGIN:VEVENT
DTSTART;TZID=Europe/Paris:20231124T140000
DTEND;TZID=Europe/Paris:20231124T170000
DTSTAMP:20260421T123946
CREATED:20231108T131031Z
LAST-MODIFIED:20231108T131031Z
UID:22540-1700834400-1700845200@www.trefflean.com
SUMMARY:CCAS - Projection film "Un jour tu vieilliras"
DESCRIPTION:Organisé par les CCAS du canton \nSuivi d’un temps d’échange avec le réalisateur et un gériatre du CHBA \n 
URL:https://www.trefflean.com/evenement/ccas-projection-film-un-jour-tu-vieilliras/
LOCATION:ELVEN\, 35\, rue du Calvaire
ATTACH;FMTTYPE=image/jpeg:https://www.trefflean.com/wp-content/uploads/2023/11/flyers-Copie_page-0001.jpg
END:VEVENT
END:VCALENDAR