BEGIN:VCALENDAR
VERSION:2.0
PRODID:-//Site de la commune de Treffléan - ECPv5.7.0//NONSGML v1.0//EN
CALSCALE:GREGORIAN
METHOD:PUBLISH
X-WR-CALNAME:Site de la commune de Treffléan
X-ORIGINAL-URL:https://www.trefflean.com
X-WR-CALDESC:évènements pour Site de la commune de Treffléan
BEGIN:VTIMEZONE
TZID:Europe/Paris
BEGIN:DAYLIGHT
TZOFFSETFROM:+0100
TZOFFSETTO:+0200
TZNAME:CEST
DTSTART:20230326T010000
END:DAYLIGHT
BEGIN:STANDARD
TZOFFSETFROM:+0200
TZOFFSETTO:+0100
TZNAME:CET
DTSTART:20231029T010000
END:STANDARD
END:VTIMEZONE
BEGIN:VEVENT
DTSTART;TZID=Europe/Paris:20230923T203000
DTEND;TZID=Europe/Paris:20230923T203000
DTSTAMP:20260422T014651
CREATED:20230913T145106Z
LAST-MODIFIED:20230913T145106Z
UID:22476-1695501000-1695501000@www.trefflean.com
SUMMARY:CONCERT RENCONTRE - Chapelle de Cran
DESCRIPTION: 
URL:https://www.trefflean.com/evenement/concert-rencontre-chapelle-de-cran/
LOCATION:Village de Cran\, cran\, treffléan\, 56250\, France
CATEGORIES:divertissement
ATTACH;FMTTYPE=image/jpeg:https://www.trefflean.com/wp-content/uploads/2023/09/CONCERT.jpg
END:VEVENT
END:VCALENDAR