BEGIN:VCALENDAR
VERSION:2.0
PRODID:-//Site de la commune de Treffléan - ECPv5.7.0//NONSGML v1.0//EN
CALSCALE:GREGORIAN
METHOD:PUBLISH
X-WR-CALNAME:Site de la commune de Treffléan
X-ORIGINAL-URL:https://www.trefflean.com
X-WR-CALDESC:évènements pour Site de la commune de Treffléan
BEGIN:VTIMEZONE
TZID:Europe/Paris
BEGIN:DAYLIGHT
TZOFFSETFROM:+0100
TZOFFSETTO:+0200
TZNAME:CEST
DTSTART:20260329T010000
END:DAYLIGHT
BEGIN:STANDARD
TZOFFSETFROM:+0200
TZOFFSETTO:+0100
TZNAME:CET
DTSTART:20261025T010000
END:STANDARD
END:VTIMEZONE
BEGIN:VEVENT
DTSTART;TZID=Europe/Paris:20260413T200000
DTEND;TZID=Europe/Paris:20260413T223000
DTSTAMP:20260421T134217
CREATED:20260404T001659Z
LAST-MODIFIED:20260404T001711Z
UID:24439-1776110400-1776119400@www.trefflean.com
SUMMARY:Conseil municipal
DESCRIPTION:Approbation du PV du Conseil municipal du 20 mars 2026\nTaux d’imposition 2026\n\nFixation des indemnités de fonction du Maire\, des Adjoints et des Conseillers Municipaux Délégués\nElection des membres de la commission d’appel d’offres (CAO)\nCréation et composition des commissions municipales\nProposition de liste pour la désignation des membres de la Commission Communale des Impôts Directs (CCID)\nDésignation des membres de la commission de contrôle des listes électorales\nTirage au sort jurés d’assises 2027\nDésignation des représentants du Conseil municipal au sein des organismes extérieurs\nConvention de gestion de services pour l’exercice de la compétence « Eaux Pluviales Urbaines » avec Golfe du Morbihan Vannes agglomération\nRachat de la parcelle ZD78 dans le cadre du portage foncier\nDécisions du Maire dans le cadre des délégations du Conseil Municipal au MaireInformations diverses
URL:https://www.trefflean.com/evenement/conseil-municipal-22/
CATEGORIES:Conseil municipal
ATTACH;FMTTYPE=image/jpeg:https://www.trefflean.com/wp-content/uploads/2021/10/conseil_municipal.jpg
END:VEVENT
END:VCALENDAR