BEGIN:VCALENDAR
VERSION:2.0
PRODID:-//Site de la commune de Treffléan - ECPv5.7.0//NONSGML v1.0//EN
CALSCALE:GREGORIAN
METHOD:PUBLISH
X-WR-CALNAME:Site de la commune de Treffléan
X-ORIGINAL-URL:https://www.trefflean.com
X-WR-CALDESC:évènements pour Site de la commune de Treffléan
BEGIN:VTIMEZONE
TZID:Europe/Paris
BEGIN:DAYLIGHT
TZOFFSETFROM:+0100
TZOFFSETTO:+0200
TZNAME:CEST
DTSTART:20230326T010000
END:DAYLIGHT
BEGIN:STANDARD
TZOFFSETFROM:+0200
TZOFFSETTO:+0100
TZNAME:CET
DTSTART:20231029T010000
END:STANDARD
END:VTIMEZONE
BEGIN:VEVENT
DTSTART;TZID=Europe/Paris:20230905T183000
DTEND;TZID=Europe/Paris:20230905T200000
DTSTAMP:20260422T033123
CREATED:20230626T204605Z
LAST-MODIFIED:20230829T100506Z
UID:22139-1693938600-1693944000@www.trefflean.com
SUMMARY:Conseil municipal
DESCRIPTION:Ordre du jour : \nApprobation du procès-verbal du conseil municipal du 9 juin 2023\n1. Recours au contrat d’apprentissage\n2. Subvention exceptionnelle à l’interassociations\n3. Médecine professionnelle et préventive : renouvellement de la convention avec le CDG 56\n4. Décisions du maire dans le cadre des délégations du conseil municipal au maire\n5. Informations diverses
URL:https://www.trefflean.com/evenement/conseil-municipal-6/
LOCATION:Mairie
CATEGORIES:Conseil municipal
ATTACH;FMTTYPE=image/jpeg:https://www.trefflean.com/wp-content/uploads/2022/12/CM.jpg
END:VEVENT
END:VCALENDAR