BEGIN:VCALENDAR
VERSION:2.0
PRODID:-//Site de la commune de Treffléan - ECPv5.7.0//NONSGML v1.0//EN
CALSCALE:GREGORIAN
METHOD:PUBLISH
X-WR-CALNAME:Site de la commune de Treffléan
X-ORIGINAL-URL:https://www.trefflean.com
X-WR-CALDESC:évènements pour Site de la commune de Treffléan
BEGIN:VTIMEZONE
TZID:Europe/Paris
BEGIN:DAYLIGHT
TZOFFSETFROM:+0100
TZOFFSETTO:+0200
TZNAME:CEST
DTSTART:20230326T010000
END:DAYLIGHT
BEGIN:STANDARD
TZOFFSETFROM:+0200
TZOFFSETTO:+0100
TZNAME:CET
DTSTART:20231029T010000
END:STANDARD
END:VTIMEZONE
BEGIN:VEVENT
DTSTART;TZID=Europe/Paris:20231207T183000
DTEND;TZID=Europe/Paris:20231207T200000
DTSTAMP:20260421T153035
CREATED:20231105T183141Z
LAST-MODIFIED:20231201T105346Z
UID:22525-1701973800-1701979200@www.trefflean.com
SUMMARY:Conseil municipal
DESCRIPTION:Ordre du jour : \nApprobation du procès-verbal du conseil municipal du 12 octobre 2023\n1. Finances :\n• Tarifs communaux 2024\n• Loyer de l’ancien presbytère\n• Demande de subvention 2023 association l’As de Treffl’\n• Autorisation de mandatement des dépenses d’investissement avant le vote du budget primitif\n2. Ressources humaines : modification du tableau des emplois\n3. Renouvellement convention FDGDON (Fédération Départementale des Groupements de Défense contre les Organismes Nuisibles)\n4. Proposition de composition de la conférence régionale de la politique de réduction de l’artificialisation des sols en Bretagne\n5. Droit de préemption urbain\n6. Rapport de CLECT de GMVA relatif à la rétrocession de la salle de spectacle Hermine à la commune de Sarzeau\, et à l’intégration de la base de kayak et aviron de Vannes à la Communauté d’Agglomération\n7. Rapport d’activité 2022 SYSEM\n8. Décisions du maire dans le cadre des délégations du conseil municipal au maire\n9. Informations diverses
URL:https://www.trefflean.com/evenement/conseil-municipal-7/
CATEGORIES:Conseil municipal
ATTACH;FMTTYPE=image/jpeg:https://www.trefflean.com/wp-content/uploads/2022/12/CM.jpg
END:VEVENT
END:VCALENDAR