BEGIN:VCALENDAR
VERSION:2.0
PRODID:-//Site de la commune de Treffléan - ECPv5.7.0//NONSGML v1.0//EN
CALSCALE:GREGORIAN
METHOD:PUBLISH
X-WR-CALNAME:Site de la commune de Treffléan
X-ORIGINAL-URL:https://www.trefflean.com
X-WR-CALDESC:évènements pour Site de la commune de Treffléan
BEGIN:VTIMEZONE
TZID:Europe/Paris
BEGIN:DAYLIGHT
TZOFFSETFROM:+0100
TZOFFSETTO:+0200
TZNAME:CEST
DTSTART:20260329T010000
END:DAYLIGHT
BEGIN:STANDARD
TZOFFSETFROM:+0200
TZOFFSETTO:+0100
TZNAME:CET
DTSTART:20261025T010000
END:STANDARD
END:VTIMEZONE
BEGIN:VEVENT
DTSTART;TZID=Europe/Paris:20260913T090000
DTEND;TZID=Europe/Paris:20260913T133000
DTSTAMP:20260421T140749
CREATED:20260415T091050Z
LAST-MODIFIED:20260415T091050Z
UID:24459-1789290000-1789306200@www.trefflean.com
SUMMARY:Marché
DESCRIPTION:
URL:https://www.trefflean.com/evenement/marche-37/
CATEGORIES:Marché
ATTACH;FMTTYPE=image/png:https://www.trefflean.com/wp-content/uploads/2024/11/Affiche-coloree-illustratif-Marche-des-producteurs.png
END:VEVENT
END:VCALENDAR