BEGIN:VCALENDAR
VERSION:2.0
PRODID:-//Site de la commune de Treffléan - ECPv5.7.0//NONSGML v1.0//EN
CALSCALE:GREGORIAN
METHOD:PUBLISH
X-WR-CALNAME:Site de la commune de Treffléan
X-ORIGINAL-URL:https://www.trefflean.com
X-WR-CALDESC:évènements pour Site de la commune de Treffléan
BEGIN:VTIMEZONE
TZID:Europe/Paris
BEGIN:DAYLIGHT
TZOFFSETFROM:+0100
TZOFFSETTO:+0200
TZNAME:CEST
DTSTART:20230326T010000
END:DAYLIGHT
BEGIN:STANDARD
TZOFFSETFROM:+0200
TZOFFSETTO:+0100
TZNAME:CET
DTSTART:20231029T010000
END:STANDARD
END:VTIMEZONE
BEGIN:VEVENT
DTSTART;VALUE=DATE:20231114
DTEND;VALUE=DATE:20231116
DTSTAMP:20260421T110458
CREATED:20231109T152732Z
LAST-MODIFIED:20231109T152732Z
UID:22545-1699920000-1700092799@www.trefflean.com
SUMMARY:OPÉRATION LUMIÈRE ET VISION
DESCRIPTION:
URL:https://www.trefflean.com/evenement/operation-lumiere-et-vision/
LOCATION:ELVEN\, 35\, rue du Calvaire
ATTACH;FMTTYPE=image/png:https://www.trefflean.com/wp-content/uploads/2023/11/AFFICHE-1-1.png
END:VEVENT
END:VCALENDAR