BEGIN:VCALENDAR
VERSION:2.0
PRODID:-//Site de la commune de Treffléan - ECPv5.7.0//NONSGML v1.0//EN
CALSCALE:GREGORIAN
METHOD:PUBLISH
X-WR-CALNAME:Site de la commune de Treffléan
X-ORIGINAL-URL:https://www.trefflean.com
X-WR-CALDESC:évènements pour Site de la commune de Treffléan
BEGIN:VTIMEZONE
TZID:Europe/Paris
BEGIN:DAYLIGHT
TZOFFSETFROM:+0100
TZOFFSETTO:+0200
TZNAME:CEST
DTSTART:20230326T010000
END:DAYLIGHT
BEGIN:STANDARD
TZOFFSETFROM:+0200
TZOFFSETTO:+0100
TZNAME:CET
DTSTART:20231029T010000
END:STANDARD
END:VTIMEZONE
BEGIN:VEVENT
DTSTART;TZID=Europe/Paris:20231001T093000
DTEND;TZID=Europe/Paris:20231001T173000
DTSTAMP:20260421T225253
CREATED:20230905T144747Z
LAST-MODIFIED:20230910T123156Z
UID:22386-1696152600-1696181400@www.trefflean.com
SUMMARY:PUCES LOISIRS CRÉATIFS [TREFFLOISIRS]
DESCRIPTION:L’Association TREFFLOISIRS organise son 3ème PUCES LOISIRS CREATIFS ET COUTURE le Dimanche 1er Octobre au Complexe Sportif de TREFFLEAN de 9h30 à 17h30. \nEntrée gratuite avec une levée de fonds au profit de la Ligue Contre le cancer du Morbihan et une collecte de coussins cœur. Petite restauration rapide (buvette\, sandwichs\, Galettes et crêpes). \n  \nCOUDRE ENSEMBLE DES COUSSINS CŒUR : \n \nL’association TREFFLOISIRS recherche des bénévoles pour participer à un atelier collectif afin de pouvoir confectionner un grand nombre de coussins coeur qui seront offerts à l’hôpital de VANNES et la Ligue contre le cancer du Morbihan. \nCoussins destinés à soulager les personnes venant de subir une opération du cancer du sein. \nVous ne savez pas coudre ?  pas de panique\, vous pouvez également participer à la découpe ou au rembourrage \nVous savez coudre ?  venez avec votre machine\, petit matériel et éventuellement chutes de tissu en coton. \nL’Association  TREFF’LOISIRS fourni du tissu et le rembourrage. \nCet atelier aura lieu le Samedi 23 Septembre de 14h00 à 16h00 et le Dimanche 24 Septembre de 10h00 à 12h00 au Complexe Sportif de la Commune. \nContact pour informations : 06 72 85 95 09 (si possible par SMS) ou treffcouture@gmail.com
URL:https://www.trefflean.com/evenement/puces-loisirs-creatifs-treffloisirs/
LOCATION:Complexe sportif Maurice Le Luherne\, Treffléan\, 56250\, France
CATEGORIES:divertissement,Troc et puces
ATTACH;FMTTYPE=image/jpeg:https://www.trefflean.com/wp-content/uploads/2023/09/Flyer-Troc-et-Puces.jpg
END:VEVENT
END:VCALENDAR