BEGIN:VCALENDAR
VERSION:2.0
PRODID:-//Site de la commune de Treffléan - ECPv5.7.0//NONSGML v1.0//EN
CALSCALE:GREGORIAN
METHOD:PUBLISH
X-WR-CALNAME:Site de la commune de Treffléan
X-ORIGINAL-URL:https://www.trefflean.com
X-WR-CALDESC:évènements pour Site de la commune de Treffléan
BEGIN:VTIMEZONE
TZID:Europe/Paris
BEGIN:DAYLIGHT
TZOFFSETFROM:+0100
TZOFFSETTO:+0200
TZNAME:CEST
DTSTART:20230326T010000
END:DAYLIGHT
BEGIN:STANDARD
TZOFFSETFROM:+0200
TZOFFSETTO:+0100
TZNAME:CET
DTSTART:20231029T010000
END:STANDARD
END:VTIMEZONE
BEGIN:VEVENT
DTSTART;TZID=Europe/Paris:20231028T193000
DTEND;TZID=Europe/Paris:20231028T193000
DTSTAMP:20260421T123149
CREATED:20231010T063356Z
LAST-MODIFIED:20231010T063356Z
UID:22499-1698521400-1698521400@www.trefflean.com
SUMMARY:Soirée Tartiflette
DESCRIPTION:Le comité de jumelage \nTREFFLÉAN – LA GIETTAZ \n  \norganise une soirée tartiflette le samedi 28 octobre 2023 \nà partir de 19h30 \nRepas à 13€ sur place ou 11€ à emporter \n  \nRéservation avant le 20 octobre au 06.08.94.02.56
URL:https://www.trefflean.com/evenement/soiree-tartiflette/
LOCATION:Ancien restaurant scolaire\, Treffléan\, France
CATEGORIES:Repas
END:VEVENT
END:VCALENDAR